BEGIN:VCALENDAR
VERSION:2.0
PRODID:-//YourOrg//YourApp//EN
BEGIN:VTIMEZONE
TZID:Europe/Berlin
X-LIC-LOCATION:Europe/Berlin
BEGIN:STANDARD
TZOFFSETFROM:+0200
TZOFFSETTO:+0100
TZNAME:CET
DTSTART:19701025T030000
RRULE:FREQ=YEARLY;BYMONTH=10;BYDAY=-1SU
END:STANDARD
BEGIN:DAYLIGHT
TZOFFSETFROM:+0100
TZOFFSETTO:+0200
TZNAME:CEST
DTSTART:19700329T020000
RRULE:FREQ=YEARLY;BYMONTH=3;BYDAY=-1SU
END:DAYLIGHT
END:VTIMEZONE
BEGIN:VEVENT
DTSTART;TZID=Europe/Berlin:20260715T100000
DTEND;TZID=Europe/Berlin:20260715T150000
SUMMARY:Willkommen im #teamklimaschutz! Onboarding-Veranstaltung für neue Klimaschutzmanagerinnen und -manager
DESCRIPTION:Willkommen an Bord des #teamklimaschutz! \nDie ersten Wochen und Monate als neue Klimaschutzmanagerin oder -manager sind eine spannende Zeit – und wichtige Aufgaben und Fragen lassen nicht lange auf sich warten. Doch wie finden Sie  passende Unterstützung? Und wer sitzt noch alles mit Ihnen im Boot?\nWir beantworten Ihre Fragen und laden zum virtuellen Austausch und zur Vernetzung ein.\n\nHinweis: Bitte beachten Sie\, dass der Eintrag des Termins in Ihrem Kalender die Anmeldung nicht ersetzt. Um an der Veranstaltung teilnehmen zu können\, müssen Sie sich über das Anmeldeformular anmelden: https://www.klimaschutz.de/de/form/agentur-onboarding?event=5076
END:VEVENT
END:VCALENDAR
