BEGIN:VCALENDAR
VERSION:2.0
PRODID:-//YourOrg//YourApp//EN
BEGIN:VTIMEZONE
TZID:Europe/Berlin
X-LIC-LOCATION:Europe/Berlin
BEGIN:STANDARD
TZOFFSETFROM:+0200
TZOFFSETTO:+0100
TZNAME:CET
DTSTART:19701025T030000
RRULE:FREQ=YEARLY;BYMONTH=10;BYDAY=-1SU
END:STANDARD
BEGIN:DAYLIGHT
TZOFFSETFROM:+0100
TZOFFSETTO:+0200
TZNAME:CEST
DTSTART:19700329T020000
RRULE:FREQ=YEARLY;BYMONTH=3;BYDAY=-1SU
END:DAYLIGHT
END:VTIMEZONE
BEGIN:VEVENT
DTSTART;TZID=Europe/Berlin:20260429T100000
DTEND;TZID=Europe/Berlin:20260429T120000
SUMMARY:NaKoMo-Workshop „Resilienz kommunaler Verkehrssysteme – Herausforderungen durch die Folgen des Klimawandels“
DESCRIPTION:Hitzeperioden\, Starkregen und Extremwetterereignisse belasten Straßen\, Haltestellen und Verkehrsnetze – und sie belasten diejenigen\, die per ÖPNV oder mit dem eigenen Fahrzeug unterwegs sind. Wie lassen sich Verkehrssysteme widerständiger machen? Welche Maßnahmen zahlen auf eine nachhaltige kommunale Mobilitätsplanung ein\, die auch die klimabedingten Belastungen berücksichtigt?\n\nHinweis: Bitte beachten Sie\, dass der Eintrag des Termins in Ihrem Kalender die separate Anmeldung nicht ersetzt. Informationen zur Anmeldung finden Sie auf der Veranstaltungsseite.
END:VEVENT
END:VCALENDAR
